BEGIN:VCALENDAR
VERSION:2.0
PRODID:-//Riverbend Country Club - ECPv6.15.18//NONSGML v1.0//EN
CALSCALE:GREGORIAN
METHOD:PUBLISH
X-ORIGINAL-URL:https://www.riverbendgolfcountryclub.com
X-WR-CALDESC:Events for Riverbend Country Club
REFRESH-INTERVAL;VALUE=DURATION:PT1H
X-Robots-Tag:noindex
X-PUBLISHED-TTL:PT1H
BEGIN:VTIMEZONE
TZID:UTC
BEGIN:STANDARD
TZOFFSETFROM:+0000
TZOFFSETTO:+0000
TZNAME:UTC
DTSTART:20280101T000000
END:STANDARD
END:VTIMEZONE
BEGIN:VEVENT
DTSTART;TZID=UTC:20290301T130000
DTEND;TZID=UTC:20290301T130000
DTSTAMP:20260421T090433
CREATED:20250731T124733Z
LAST-MODIFIED:20250731T124736Z
UID:10000458-1867064400-1867064400@www.riverbendgolfcountryclub.com
SUMMARY:Mahjong Afternoons
DESCRIPTION:by Mykel \n\n\n\n\nThursday Mahjong AfternoonsNew to Mahjong or a seasoned player? Join us each Thursday for a fun\, social afternoon with friends!\n\n\n\n\nLocation River Bend Banquet Room
URL:https://www.riverbendgolfcountryclub.com/event/mahjong-afternoons/2029-03-01/
END:VEVENT
BEGIN:VEVENT
DTSTART;TZID=UTC:20290301T180000
DTEND;TZID=UTC:20290301T180000
DTSTAMP:20260421T090433
CREATED:20250731T124944Z
LAST-MODIFIED:20250731T124947Z
UID:10000723-1867082400-1867082400@www.riverbendgolfcountryclub.com
SUMMARY:Mahjong Nights
DESCRIPTION:by Mykel \n\n\n\n\nThursday Mahjong AfternoonsNew to Mahjong or a seasoned player? Join us each Thursday for a fun\, social afternoon with friends!\n\n\n\n\nLocation River Bend Banquet Room
URL:https://www.riverbendgolfcountryclub.com/event/mahjong-nights/2029-03-01/
END:VEVENT
BEGIN:VEVENT
DTSTART;TZID=UTC:20290308T130000
DTEND;TZID=UTC:20290308T130000
DTSTAMP:20260421T090433
CREATED:20250731T124733Z
LAST-MODIFIED:20250731T124736Z
UID:10000459-1867669200-1867669200@www.riverbendgolfcountryclub.com
SUMMARY:Mahjong Afternoons
DESCRIPTION:by Mykel \n\n\n\n\nThursday Mahjong AfternoonsNew to Mahjong or a seasoned player? Join us each Thursday for a fun\, social afternoon with friends!\n\n\n\n\nLocation River Bend Banquet Room
URL:https://www.riverbendgolfcountryclub.com/event/mahjong-afternoons/2029-03-08/
END:VEVENT
BEGIN:VEVENT
DTSTART;TZID=UTC:20290308T180000
DTEND;TZID=UTC:20290308T180000
DTSTAMP:20260421T090433
CREATED:20250731T124944Z
LAST-MODIFIED:20250731T124947Z
UID:10000724-1867687200-1867687200@www.riverbendgolfcountryclub.com
SUMMARY:Mahjong Nights
DESCRIPTION:by Mykel \n\n\n\n\nThursday Mahjong AfternoonsNew to Mahjong or a seasoned player? Join us each Thursday for a fun\, social afternoon with friends!\n\n\n\n\nLocation River Bend Banquet Room
URL:https://www.riverbendgolfcountryclub.com/event/mahjong-nights/2029-03-08/
END:VEVENT
BEGIN:VEVENT
DTSTART;TZID=UTC:20290315T130000
DTEND;TZID=UTC:20290315T130000
DTSTAMP:20260421T090433
CREATED:20250731T124733Z
LAST-MODIFIED:20250731T124736Z
UID:10000460-1868274000-1868274000@www.riverbendgolfcountryclub.com
SUMMARY:Mahjong Afternoons
DESCRIPTION:by Mykel \n\n\n\n\nThursday Mahjong AfternoonsNew to Mahjong or a seasoned player? Join us each Thursday for a fun\, social afternoon with friends!\n\n\n\n\nLocation River Bend Banquet Room
URL:https://www.riverbendgolfcountryclub.com/event/mahjong-afternoons/2029-03-15/
END:VEVENT
BEGIN:VEVENT
DTSTART;TZID=UTC:20290315T180000
DTEND;TZID=UTC:20290315T180000
DTSTAMP:20260421T090433
CREATED:20250731T124944Z
LAST-MODIFIED:20250731T124947Z
UID:10000725-1868292000-1868292000@www.riverbendgolfcountryclub.com
SUMMARY:Mahjong Nights
DESCRIPTION:by Mykel \n\n\n\n\nThursday Mahjong AfternoonsNew to Mahjong or a seasoned player? Join us each Thursday for a fun\, social afternoon with friends!\n\n\n\n\nLocation River Bend Banquet Room
URL:https://www.riverbendgolfcountryclub.com/event/mahjong-nights/2029-03-15/
END:VEVENT
BEGIN:VEVENT
DTSTART;TZID=UTC:20290322T130000
DTEND;TZID=UTC:20290322T130000
DTSTAMP:20260421T090433
CREATED:20250731T124733Z
LAST-MODIFIED:20250731T124736Z
UID:10000461-1868878800-1868878800@www.riverbendgolfcountryclub.com
SUMMARY:Mahjong Afternoons
DESCRIPTION:by Mykel \n\n\n\n\nThursday Mahjong AfternoonsNew to Mahjong or a seasoned player? Join us each Thursday for a fun\, social afternoon with friends!\n\n\n\n\nLocation River Bend Banquet Room
URL:https://www.riverbendgolfcountryclub.com/event/mahjong-afternoons/2029-03-22/
END:VEVENT
BEGIN:VEVENT
DTSTART;TZID=UTC:20290322T180000
DTEND;TZID=UTC:20290322T180000
DTSTAMP:20260421T090433
CREATED:20250731T124944Z
LAST-MODIFIED:20250731T124947Z
UID:10000726-1868896800-1868896800@www.riverbendgolfcountryclub.com
SUMMARY:Mahjong Nights
DESCRIPTION:by Mykel \n\n\n\n\nThursday Mahjong AfternoonsNew to Mahjong or a seasoned player? Join us each Thursday for a fun\, social afternoon with friends!\n\n\n\n\nLocation River Bend Banquet Room
URL:https://www.riverbendgolfcountryclub.com/event/mahjong-nights/2029-03-22/
END:VEVENT
BEGIN:VEVENT
DTSTART;TZID=UTC:20290329T130000
DTEND;TZID=UTC:20290329T130000
DTSTAMP:20260421T090433
CREATED:20250731T124733Z
LAST-MODIFIED:20250731T124736Z
UID:10000462-1869483600-1869483600@www.riverbendgolfcountryclub.com
SUMMARY:Mahjong Afternoons
DESCRIPTION:by Mykel \n\n\n\n\nThursday Mahjong AfternoonsNew to Mahjong or a seasoned player? Join us each Thursday for a fun\, social afternoon with friends!\n\n\n\n\nLocation River Bend Banquet Room
URL:https://www.riverbendgolfcountryclub.com/event/mahjong-afternoons/2029-03-29/
END:VEVENT
BEGIN:VEVENT
DTSTART;TZID=UTC:20290329T180000
DTEND;TZID=UTC:20290329T180000
DTSTAMP:20260421T090433
CREATED:20250731T124944Z
LAST-MODIFIED:20250731T124947Z
UID:10000727-1869501600-1869501600@www.riverbendgolfcountryclub.com
SUMMARY:Mahjong Nights
DESCRIPTION:by Mykel \n\n\n\n\nThursday Mahjong AfternoonsNew to Mahjong or a seasoned player? Join us each Thursday for a fun\, social afternoon with friends!\n\n\n\n\nLocation River Bend Banquet Room
URL:https://www.riverbendgolfcountryclub.com/event/mahjong-nights/2029-03-29/
END:VEVENT
END:VCALENDAR