BEGIN:VCALENDAR
VERSION:2.0
PRODID:-//Riverbend Country Club - ECPv6.15.18//NONSGML v1.0//EN
CALSCALE:GREGORIAN
METHOD:PUBLISH
X-WR-CALNAME:Riverbend Country Club
X-ORIGINAL-URL:https://www.riverbendgolfcountryclub.com
X-WR-CALDESC:Events for Riverbend Country Club
REFRESH-INTERVAL;VALUE=DURATION:PT1H
X-Robots-Tag:noindex
X-PUBLISHED-TTL:PT1H
BEGIN:VTIMEZONE
TZID:UTC
BEGIN:STANDARD
TZOFFSETFROM:+0000
TZOFFSETTO:+0000
TZNAME:UTC
DTSTART:20270101T000000
END:STANDARD
END:VTIMEZONE
BEGIN:VEVENT
DTSTART;TZID=UTC:20281005T130000
DTEND;TZID=UTC:20281005T130000
DTSTAMP:20260421T000934
CREATED:20250731T124733Z
LAST-MODIFIED:20250731T124736Z
UID:10000437-1854363600-1854363600@www.riverbendgolfcountryclub.com
SUMMARY:Mahjong Afternoons
DESCRIPTION:by Mykel \n\n\n\n\nThursday Mahjong AfternoonsNew to Mahjong or a seasoned player? Join us each Thursday for a fun\, social afternoon with friends!\n\n\n\n\nLocation River Bend Banquet Room
URL:https://www.riverbendgolfcountryclub.com/event/mahjong-afternoons/2028-10-05/
END:VEVENT
BEGIN:VEVENT
DTSTART;TZID=UTC:20281005T180000
DTEND;TZID=UTC:20281005T180000
DTSTAMP:20260421T000934
CREATED:20250731T124944Z
LAST-MODIFIED:20250731T124947Z
UID:10000702-1854381600-1854381600@www.riverbendgolfcountryclub.com
SUMMARY:Mahjong Nights
DESCRIPTION:by Mykel \n\n\n\n\nThursday Mahjong AfternoonsNew to Mahjong or a seasoned player? Join us each Thursday for a fun\, social afternoon with friends!\n\n\n\n\nLocation River Bend Banquet Room
URL:https://www.riverbendgolfcountryclub.com/event/mahjong-nights/2028-10-05/
END:VEVENT
BEGIN:VEVENT
DTSTART;TZID=UTC:20281012T130000
DTEND;TZID=UTC:20281012T130000
DTSTAMP:20260421T000934
CREATED:20250731T124733Z
LAST-MODIFIED:20250731T124736Z
UID:10000438-1854968400-1854968400@www.riverbendgolfcountryclub.com
SUMMARY:Mahjong Afternoons
DESCRIPTION:by Mykel \n\n\n\n\nThursday Mahjong AfternoonsNew to Mahjong or a seasoned player? Join us each Thursday for a fun\, social afternoon with friends!\n\n\n\n\nLocation River Bend Banquet Room
URL:https://www.riverbendgolfcountryclub.com/event/mahjong-afternoons/2028-10-12/
END:VEVENT
BEGIN:VEVENT
DTSTART;TZID=UTC:20281012T180000
DTEND;TZID=UTC:20281012T180000
DTSTAMP:20260421T000934
CREATED:20250731T124944Z
LAST-MODIFIED:20250731T124947Z
UID:10000703-1854986400-1854986400@www.riverbendgolfcountryclub.com
SUMMARY:Mahjong Nights
DESCRIPTION:by Mykel \n\n\n\n\nThursday Mahjong AfternoonsNew to Mahjong or a seasoned player? Join us each Thursday for a fun\, social afternoon with friends!\n\n\n\n\nLocation River Bend Banquet Room
URL:https://www.riverbendgolfcountryclub.com/event/mahjong-nights/2028-10-12/
END:VEVENT
BEGIN:VEVENT
DTSTART;TZID=UTC:20281019T130000
DTEND;TZID=UTC:20281019T130000
DTSTAMP:20260421T000934
CREATED:20250731T124733Z
LAST-MODIFIED:20250731T124736Z
UID:10000439-1855573200-1855573200@www.riverbendgolfcountryclub.com
SUMMARY:Mahjong Afternoons
DESCRIPTION:by Mykel \n\n\n\n\nThursday Mahjong AfternoonsNew to Mahjong or a seasoned player? Join us each Thursday for a fun\, social afternoon with friends!\n\n\n\n\nLocation River Bend Banquet Room
URL:https://www.riverbendgolfcountryclub.com/event/mahjong-afternoons/2028-10-19/
END:VEVENT
BEGIN:VEVENT
DTSTART;TZID=UTC:20281019T180000
DTEND;TZID=UTC:20281019T180000
DTSTAMP:20260421T000934
CREATED:20250731T124944Z
LAST-MODIFIED:20250731T124947Z
UID:10000704-1855591200-1855591200@www.riverbendgolfcountryclub.com
SUMMARY:Mahjong Nights
DESCRIPTION:by Mykel \n\n\n\n\nThursday Mahjong AfternoonsNew to Mahjong or a seasoned player? Join us each Thursday for a fun\, social afternoon with friends!\n\n\n\n\nLocation River Bend Banquet Room
URL:https://www.riverbendgolfcountryclub.com/event/mahjong-nights/2028-10-19/
END:VEVENT
BEGIN:VEVENT
DTSTART;TZID=UTC:20281026T130000
DTEND;TZID=UTC:20281026T130000
DTSTAMP:20260421T000934
CREATED:20250731T124733Z
LAST-MODIFIED:20250731T124736Z
UID:10000440-1856178000-1856178000@www.riverbendgolfcountryclub.com
SUMMARY:Mahjong Afternoons
DESCRIPTION:by Mykel \n\n\n\n\nThursday Mahjong AfternoonsNew to Mahjong or a seasoned player? Join us each Thursday for a fun\, social afternoon with friends!\n\n\n\n\nLocation River Bend Banquet Room
URL:https://www.riverbendgolfcountryclub.com/event/mahjong-afternoons/2028-10-26/
END:VEVENT
BEGIN:VEVENT
DTSTART;TZID=UTC:20281026T180000
DTEND;TZID=UTC:20281026T180000
DTSTAMP:20260421T000934
CREATED:20250731T124944Z
LAST-MODIFIED:20250731T124947Z
UID:10000705-1856196000-1856196000@www.riverbendgolfcountryclub.com
SUMMARY:Mahjong Nights
DESCRIPTION:by Mykel \n\n\n\n\nThursday Mahjong AfternoonsNew to Mahjong or a seasoned player? Join us each Thursday for a fun\, social afternoon with friends!\n\n\n\n\nLocation River Bend Banquet Room
URL:https://www.riverbendgolfcountryclub.com/event/mahjong-nights/2028-10-26/
END:VEVENT
END:VCALENDAR