BEGIN:VCALENDAR
VERSION:2.0
PRODID:-//Riverbend Country Club - ECPv6.15.18//NONSGML v1.0//EN
CALSCALE:GREGORIAN
METHOD:PUBLISH
X-WR-CALNAME:Riverbend Country Club
X-ORIGINAL-URL:https://www.riverbendgolfcountryclub.com
X-WR-CALDESC:Events for Riverbend Country Club
REFRESH-INTERVAL;VALUE=DURATION:PT1H
X-Robots-Tag:noindex
X-PUBLISHED-TTL:PT1H
BEGIN:VTIMEZONE
TZID:UTC
BEGIN:STANDARD
TZOFFSETFROM:+0000
TZOFFSETTO:+0000
TZNAME:UTC
DTSTART:20270101T000000
END:STANDARD
END:VTIMEZONE
BEGIN:VEVENT
DTSTART;TZID=UTC:20280504T130000
DTEND;TZID=UTC:20280504T130000
DTSTAMP:20260420T152419
CREATED:20250731T124733Z
LAST-MODIFIED:20250731T124736Z
UID:10000415-1841058000-1841058000@www.riverbendgolfcountryclub.com
SUMMARY:Mahjong Afternoons
DESCRIPTION:by Mykel \n\n\n\n\nThursday Mahjong AfternoonsNew to Mahjong or a seasoned player? Join us each Thursday for a fun\, social afternoon with friends!\n\n\n\n\nLocation River Bend Banquet Room
URL:https://www.riverbendgolfcountryclub.com/event/mahjong-afternoons/2028-05-04/
END:VEVENT
BEGIN:VEVENT
DTSTART;TZID=UTC:20280504T180000
DTEND;TZID=UTC:20280504T180000
DTSTAMP:20260420T152419
CREATED:20250731T124944Z
LAST-MODIFIED:20250731T124947Z
UID:10000680-1841076000-1841076000@www.riverbendgolfcountryclub.com
SUMMARY:Mahjong Nights
DESCRIPTION:by Mykel \n\n\n\n\nThursday Mahjong AfternoonsNew to Mahjong or a seasoned player? Join us each Thursday for a fun\, social afternoon with friends!\n\n\n\n\nLocation River Bend Banquet Room
URL:https://www.riverbendgolfcountryclub.com/event/mahjong-nights/2028-05-04/
END:VEVENT
BEGIN:VEVENT
DTSTART;TZID=UTC:20280511T130000
DTEND;TZID=UTC:20280511T130000
DTSTAMP:20260420T152419
CREATED:20250731T124733Z
LAST-MODIFIED:20250731T124736Z
UID:10000416-1841662800-1841662800@www.riverbendgolfcountryclub.com
SUMMARY:Mahjong Afternoons
DESCRIPTION:by Mykel \n\n\n\n\nThursday Mahjong AfternoonsNew to Mahjong or a seasoned player? Join us each Thursday for a fun\, social afternoon with friends!\n\n\n\n\nLocation River Bend Banquet Room
URL:https://www.riverbendgolfcountryclub.com/event/mahjong-afternoons/2028-05-11/
END:VEVENT
BEGIN:VEVENT
DTSTART;TZID=UTC:20280511T180000
DTEND;TZID=UTC:20280511T180000
DTSTAMP:20260420T152419
CREATED:20250731T124944Z
LAST-MODIFIED:20250731T124947Z
UID:10000681-1841680800-1841680800@www.riverbendgolfcountryclub.com
SUMMARY:Mahjong Nights
DESCRIPTION:by Mykel \n\n\n\n\nThursday Mahjong AfternoonsNew to Mahjong or a seasoned player? Join us each Thursday for a fun\, social afternoon with friends!\n\n\n\n\nLocation River Bend Banquet Room
URL:https://www.riverbendgolfcountryclub.com/event/mahjong-nights/2028-05-11/
END:VEVENT
BEGIN:VEVENT
DTSTART;TZID=UTC:20280518T130000
DTEND;TZID=UTC:20280518T130000
DTSTAMP:20260420T152419
CREATED:20250731T124733Z
LAST-MODIFIED:20250731T124736Z
UID:10000417-1842267600-1842267600@www.riverbendgolfcountryclub.com
SUMMARY:Mahjong Afternoons
DESCRIPTION:by Mykel \n\n\n\n\nThursday Mahjong AfternoonsNew to Mahjong or a seasoned player? Join us each Thursday for a fun\, social afternoon with friends!\n\n\n\n\nLocation River Bend Banquet Room
URL:https://www.riverbendgolfcountryclub.com/event/mahjong-afternoons/2028-05-18/
END:VEVENT
BEGIN:VEVENT
DTSTART;TZID=UTC:20280518T180000
DTEND;TZID=UTC:20280518T180000
DTSTAMP:20260420T152419
CREATED:20250731T124944Z
LAST-MODIFIED:20250731T124947Z
UID:10000682-1842285600-1842285600@www.riverbendgolfcountryclub.com
SUMMARY:Mahjong Nights
DESCRIPTION:by Mykel \n\n\n\n\nThursday Mahjong AfternoonsNew to Mahjong or a seasoned player? Join us each Thursday for a fun\, social afternoon with friends!\n\n\n\n\nLocation River Bend Banquet Room
URL:https://www.riverbendgolfcountryclub.com/event/mahjong-nights/2028-05-18/
END:VEVENT
BEGIN:VEVENT
DTSTART;TZID=UTC:20280525T130000
DTEND;TZID=UTC:20280525T130000
DTSTAMP:20260420T152419
CREATED:20250731T124733Z
LAST-MODIFIED:20250731T124736Z
UID:10000418-1842872400-1842872400@www.riverbendgolfcountryclub.com
SUMMARY:Mahjong Afternoons
DESCRIPTION:by Mykel \n\n\n\n\nThursday Mahjong AfternoonsNew to Mahjong or a seasoned player? Join us each Thursday for a fun\, social afternoon with friends!\n\n\n\n\nLocation River Bend Banquet Room
URL:https://www.riverbendgolfcountryclub.com/event/mahjong-afternoons/2028-05-25/
END:VEVENT
BEGIN:VEVENT
DTSTART;TZID=UTC:20280525T180000
DTEND;TZID=UTC:20280525T180000
DTSTAMP:20260420T152419
CREATED:20250731T124944Z
LAST-MODIFIED:20250731T124947Z
UID:10000683-1842890400-1842890400@www.riverbendgolfcountryclub.com
SUMMARY:Mahjong Nights
DESCRIPTION:by Mykel \n\n\n\n\nThursday Mahjong AfternoonsNew to Mahjong or a seasoned player? Join us each Thursday for a fun\, social afternoon with friends!\n\n\n\n\nLocation River Bend Banquet Room
URL:https://www.riverbendgolfcountryclub.com/event/mahjong-nights/2028-05-25/
END:VEVENT
END:VCALENDAR