BEGIN:VCALENDAR
VERSION:2.0
PRODID:-//Riverbend Country Club - ECPv6.15.18//NONSGML v1.0//EN
CALSCALE:GREGORIAN
METHOD:PUBLISH
X-ORIGINAL-URL:https://www.riverbendgolfcountryclub.com
X-WR-CALDESC:Events for Riverbend Country Club
REFRESH-INTERVAL;VALUE=DURATION:PT1H
X-Robots-Tag:noindex
X-PUBLISHED-TTL:PT1H
BEGIN:VTIMEZONE
TZID:UTC
BEGIN:STANDARD
TZOFFSETFROM:+0000
TZOFFSETTO:+0000
TZNAME:UTC
DTSTART:20270101T000000
END:STANDARD
END:VTIMEZONE
BEGIN:VEVENT
DTSTART;TZID=UTC:20280302T130000
DTEND;TZID=UTC:20280302T130000
DTSTAMP:20260420T114616
CREATED:20250731T124733Z
LAST-MODIFIED:20250731T124736Z
UID:10000406-1835614800-1835614800@www.riverbendgolfcountryclub.com
SUMMARY:Mahjong Afternoons
DESCRIPTION:by Mykel \n\n\n\n\nThursday Mahjong AfternoonsNew to Mahjong or a seasoned player? Join us each Thursday for a fun\, social afternoon with friends!\n\n\n\n\nLocation River Bend Banquet Room
URL:https://www.riverbendgolfcountryclub.com/event/mahjong-afternoons/2028-03-02/
END:VEVENT
BEGIN:VEVENT
DTSTART;TZID=UTC:20280302T180000
DTEND;TZID=UTC:20280302T180000
DTSTAMP:20260420T114616
CREATED:20250731T124944Z
LAST-MODIFIED:20250731T124947Z
UID:10000671-1835632800-1835632800@www.riverbendgolfcountryclub.com
SUMMARY:Mahjong Nights
DESCRIPTION:by Mykel \n\n\n\n\nThursday Mahjong AfternoonsNew to Mahjong or a seasoned player? Join us each Thursday for a fun\, social afternoon with friends!\n\n\n\n\nLocation River Bend Banquet Room
URL:https://www.riverbendgolfcountryclub.com/event/mahjong-nights/2028-03-02/
END:VEVENT
BEGIN:VEVENT
DTSTART;TZID=UTC:20280309T130000
DTEND;TZID=UTC:20280309T130000
DTSTAMP:20260420T114616
CREATED:20250731T124733Z
LAST-MODIFIED:20250731T124736Z
UID:10000407-1836219600-1836219600@www.riverbendgolfcountryclub.com
SUMMARY:Mahjong Afternoons
DESCRIPTION:by Mykel \n\n\n\n\nThursday Mahjong AfternoonsNew to Mahjong or a seasoned player? Join us each Thursday for a fun\, social afternoon with friends!\n\n\n\n\nLocation River Bend Banquet Room
URL:https://www.riverbendgolfcountryclub.com/event/mahjong-afternoons/2028-03-09/
END:VEVENT
BEGIN:VEVENT
DTSTART;TZID=UTC:20280309T180000
DTEND;TZID=UTC:20280309T180000
DTSTAMP:20260420T114616
CREATED:20250731T124944Z
LAST-MODIFIED:20250731T124947Z
UID:10000672-1836237600-1836237600@www.riverbendgolfcountryclub.com
SUMMARY:Mahjong Nights
DESCRIPTION:by Mykel \n\n\n\n\nThursday Mahjong AfternoonsNew to Mahjong or a seasoned player? Join us each Thursday for a fun\, social afternoon with friends!\n\n\n\n\nLocation River Bend Banquet Room
URL:https://www.riverbendgolfcountryclub.com/event/mahjong-nights/2028-03-09/
END:VEVENT
BEGIN:VEVENT
DTSTART;TZID=UTC:20280316T130000
DTEND;TZID=UTC:20280316T130000
DTSTAMP:20260420T114616
CREATED:20250731T124733Z
LAST-MODIFIED:20250731T124736Z
UID:10000408-1836824400-1836824400@www.riverbendgolfcountryclub.com
SUMMARY:Mahjong Afternoons
DESCRIPTION:by Mykel \n\n\n\n\nThursday Mahjong AfternoonsNew to Mahjong or a seasoned player? Join us each Thursday for a fun\, social afternoon with friends!\n\n\n\n\nLocation River Bend Banquet Room
URL:https://www.riverbendgolfcountryclub.com/event/mahjong-afternoons/2028-03-16/
END:VEVENT
BEGIN:VEVENT
DTSTART;TZID=UTC:20280316T180000
DTEND;TZID=UTC:20280316T180000
DTSTAMP:20260420T114616
CREATED:20250731T124944Z
LAST-MODIFIED:20250731T124947Z
UID:10000673-1836842400-1836842400@www.riverbendgolfcountryclub.com
SUMMARY:Mahjong Nights
DESCRIPTION:by Mykel \n\n\n\n\nThursday Mahjong AfternoonsNew to Mahjong or a seasoned player? Join us each Thursday for a fun\, social afternoon with friends!\n\n\n\n\nLocation River Bend Banquet Room
URL:https://www.riverbendgolfcountryclub.com/event/mahjong-nights/2028-03-16/
END:VEVENT
BEGIN:VEVENT
DTSTART;TZID=UTC:20280323T130000
DTEND;TZID=UTC:20280323T130000
DTSTAMP:20260420T114616
CREATED:20250731T124733Z
LAST-MODIFIED:20250731T124736Z
UID:10000409-1837429200-1837429200@www.riverbendgolfcountryclub.com
SUMMARY:Mahjong Afternoons
DESCRIPTION:by Mykel \n\n\n\n\nThursday Mahjong AfternoonsNew to Mahjong or a seasoned player? Join us each Thursday for a fun\, social afternoon with friends!\n\n\n\n\nLocation River Bend Banquet Room
URL:https://www.riverbendgolfcountryclub.com/event/mahjong-afternoons/2028-03-23/
END:VEVENT
BEGIN:VEVENT
DTSTART;TZID=UTC:20280323T180000
DTEND;TZID=UTC:20280323T180000
DTSTAMP:20260420T114616
CREATED:20250731T124944Z
LAST-MODIFIED:20250731T124947Z
UID:10000674-1837447200-1837447200@www.riverbendgolfcountryclub.com
SUMMARY:Mahjong Nights
DESCRIPTION:by Mykel \n\n\n\n\nThursday Mahjong AfternoonsNew to Mahjong or a seasoned player? Join us each Thursday for a fun\, social afternoon with friends!\n\n\n\n\nLocation River Bend Banquet Room
URL:https://www.riverbendgolfcountryclub.com/event/mahjong-nights/2028-03-23/
END:VEVENT
BEGIN:VEVENT
DTSTART;TZID=UTC:20280330T130000
DTEND;TZID=UTC:20280330T130000
DTSTAMP:20260420T114616
CREATED:20250731T124733Z
LAST-MODIFIED:20250731T124736Z
UID:10000410-1838034000-1838034000@www.riverbendgolfcountryclub.com
SUMMARY:Mahjong Afternoons
DESCRIPTION:by Mykel \n\n\n\n\nThursday Mahjong AfternoonsNew to Mahjong or a seasoned player? Join us each Thursday for a fun\, social afternoon with friends!\n\n\n\n\nLocation River Bend Banquet Room
URL:https://www.riverbendgolfcountryclub.com/event/mahjong-afternoons/2028-03-30/
END:VEVENT
BEGIN:VEVENT
DTSTART;TZID=UTC:20280330T180000
DTEND;TZID=UTC:20280330T180000
DTSTAMP:20260420T114616
CREATED:20250731T124944Z
LAST-MODIFIED:20250731T124947Z
UID:10000675-1838052000-1838052000@www.riverbendgolfcountryclub.com
SUMMARY:Mahjong Nights
DESCRIPTION:by Mykel \n\n\n\n\nThursday Mahjong AfternoonsNew to Mahjong or a seasoned player? Join us each Thursday for a fun\, social afternoon with friends!\n\n\n\n\nLocation River Bend Banquet Room
URL:https://www.riverbendgolfcountryclub.com/event/mahjong-nights/2028-03-30/
END:VEVENT
END:VCALENDAR