BEGIN:VCALENDAR
VERSION:2.0
PRODID:-//Riverbend Country Club - ECPv6.15.18//NONSGML v1.0//EN
CALSCALE:GREGORIAN
METHOD:PUBLISH
X-ORIGINAL-URL:https://www.riverbendgolfcountryclub.com
X-WR-CALDESC:Events for Riverbend Country Club
REFRESH-INTERVAL;VALUE=DURATION:PT1H
X-Robots-Tag:noindex
X-PUBLISHED-TTL:PT1H
BEGIN:VTIMEZONE
TZID:UTC
BEGIN:STANDARD
TZOFFSETFROM:+0000
TZOFFSETTO:+0000
TZNAME:UTC
DTSTART:20270101T000000
END:STANDARD
END:VTIMEZONE
BEGIN:VEVENT
DTSTART;TZID=UTC:20280106T130000
DTEND;TZID=UTC:20280106T130000
DTSTAMP:20260420T101901
CREATED:20250731T124733Z
LAST-MODIFIED:20250731T124736Z
UID:10000398-1830776400-1830776400@www.riverbendgolfcountryclub.com
SUMMARY:Mahjong Afternoons
DESCRIPTION:by Mykel \n\n\n\n\nThursday Mahjong AfternoonsNew to Mahjong or a seasoned player? Join us each Thursday for a fun\, social afternoon with friends!\n\n\n\n\nLocation River Bend Banquet Room
URL:https://www.riverbendgolfcountryclub.com/event/mahjong-afternoons/2028-01-06/
END:VEVENT
BEGIN:VEVENT
DTSTART;TZID=UTC:20280106T180000
DTEND;TZID=UTC:20280106T180000
DTSTAMP:20260420T101901
CREATED:20250731T124944Z
LAST-MODIFIED:20250731T124947Z
UID:10000663-1830794400-1830794400@www.riverbendgolfcountryclub.com
SUMMARY:Mahjong Nights
DESCRIPTION:by Mykel \n\n\n\n\nThursday Mahjong AfternoonsNew to Mahjong or a seasoned player? Join us each Thursday for a fun\, social afternoon with friends!\n\n\n\n\nLocation River Bend Banquet Room
URL:https://www.riverbendgolfcountryclub.com/event/mahjong-nights/2028-01-06/
END:VEVENT
BEGIN:VEVENT
DTSTART;TZID=UTC:20280113T130000
DTEND;TZID=UTC:20280113T130000
DTSTAMP:20260420T101901
CREATED:20250731T124733Z
LAST-MODIFIED:20250731T124736Z
UID:10000399-1831381200-1831381200@www.riverbendgolfcountryclub.com
SUMMARY:Mahjong Afternoons
DESCRIPTION:by Mykel \n\n\n\n\nThursday Mahjong AfternoonsNew to Mahjong or a seasoned player? Join us each Thursday for a fun\, social afternoon with friends!\n\n\n\n\nLocation River Bend Banquet Room
URL:https://www.riverbendgolfcountryclub.com/event/mahjong-afternoons/2028-01-13/
END:VEVENT
BEGIN:VEVENT
DTSTART;TZID=UTC:20280113T180000
DTEND;TZID=UTC:20280113T180000
DTSTAMP:20260420T101901
CREATED:20250731T124944Z
LAST-MODIFIED:20250731T124947Z
UID:10000664-1831399200-1831399200@www.riverbendgolfcountryclub.com
SUMMARY:Mahjong Nights
DESCRIPTION:by Mykel \n\n\n\n\nThursday Mahjong AfternoonsNew to Mahjong or a seasoned player? Join us each Thursday for a fun\, social afternoon with friends!\n\n\n\n\nLocation River Bend Banquet Room
URL:https://www.riverbendgolfcountryclub.com/event/mahjong-nights/2028-01-13/
END:VEVENT
BEGIN:VEVENT
DTSTART;TZID=UTC:20280120T130000
DTEND;TZID=UTC:20280120T130000
DTSTAMP:20260420T101901
CREATED:20250731T124733Z
LAST-MODIFIED:20250731T124736Z
UID:10000400-1831986000-1831986000@www.riverbendgolfcountryclub.com
SUMMARY:Mahjong Afternoons
DESCRIPTION:by Mykel \n\n\n\n\nThursday Mahjong AfternoonsNew to Mahjong or a seasoned player? Join us each Thursday for a fun\, social afternoon with friends!\n\n\n\n\nLocation River Bend Banquet Room
URL:https://www.riverbendgolfcountryclub.com/event/mahjong-afternoons/2028-01-20/
END:VEVENT
BEGIN:VEVENT
DTSTART;TZID=UTC:20280120T180000
DTEND;TZID=UTC:20280120T180000
DTSTAMP:20260420T101901
CREATED:20250731T124944Z
LAST-MODIFIED:20250731T124947Z
UID:10000665-1832004000-1832004000@www.riverbendgolfcountryclub.com
SUMMARY:Mahjong Nights
DESCRIPTION:by Mykel \n\n\n\n\nThursday Mahjong AfternoonsNew to Mahjong or a seasoned player? Join us each Thursday for a fun\, social afternoon with friends!\n\n\n\n\nLocation River Bend Banquet Room
URL:https://www.riverbendgolfcountryclub.com/event/mahjong-nights/2028-01-20/
END:VEVENT
BEGIN:VEVENT
DTSTART;TZID=UTC:20280127T130000
DTEND;TZID=UTC:20280127T130000
DTSTAMP:20260420T101901
CREATED:20250731T124733Z
LAST-MODIFIED:20250731T124736Z
UID:10000401-1832590800-1832590800@www.riverbendgolfcountryclub.com
SUMMARY:Mahjong Afternoons
DESCRIPTION:by Mykel \n\n\n\n\nThursday Mahjong AfternoonsNew to Mahjong or a seasoned player? Join us each Thursday for a fun\, social afternoon with friends!\n\n\n\n\nLocation River Bend Banquet Room
URL:https://www.riverbendgolfcountryclub.com/event/mahjong-afternoons/2028-01-27/
END:VEVENT
BEGIN:VEVENT
DTSTART;TZID=UTC:20280127T180000
DTEND;TZID=UTC:20280127T180000
DTSTAMP:20260420T101901
CREATED:20250731T124944Z
LAST-MODIFIED:20250731T124947Z
UID:10000666-1832608800-1832608800@www.riverbendgolfcountryclub.com
SUMMARY:Mahjong Nights
DESCRIPTION:by Mykel \n\n\n\n\nThursday Mahjong AfternoonsNew to Mahjong or a seasoned player? Join us each Thursday for a fun\, social afternoon with friends!\n\n\n\n\nLocation River Bend Banquet Room
URL:https://www.riverbendgolfcountryclub.com/event/mahjong-nights/2028-01-27/
END:VEVENT
END:VCALENDAR